BEGIN:VCALENDAR
VERSION:2.0
PRODID:-//Sub 5 Track Club - ECPv6.15.20//NONSGML v1.0//EN
CALSCALE:GREGORIAN
METHOD:PUBLISH
X-ORIGINAL-URL:https://sub5.com
X-WR-CALDESC:Events for Sub 5 Track Club
REFRESH-INTERVAL;VALUE=DURATION:PT1H
X-Robots-Tag:noindex
X-PUBLISHED-TTL:PT1H
BEGIN:VTIMEZONE
TZID:UTC
BEGIN:STANDARD
TZOFFSETFROM:+0000
TZOFFSETTO:+0000
TZNAME:UTC
DTSTART:20200101T000000
END:STANDARD
END:VTIMEZONE
BEGIN:VEVENT
DTSTART;TZID=UTC:20210906T090000
DTEND;TZID=UTC:20210906T090000
DTSTAMP:20260422T220437
CREATED:20210727T174012Z
LAST-MODIFIED:20210727T174012Z
UID:17881-1630918800-1630918800@sub5.com
SUMMARY:Labor Day 5 Mile Road Race
DESCRIPTION:Link to race website…
URL:https://sub5.com/event/labor-day-5-mile-road-race-3/
LOCATION:Bangor Parks and Recreation Building\, 647 Main St.\, Bangor
CATEGORIES:Road Race
END:VEVENT
BEGIN:VEVENT
DTSTART;TZID=UTC:20210919T093000
DTEND;TZID=UTC:20210919T093000
DTSTAMP:20260422T220437
CREATED:20210726T163609Z
LAST-MODIFIED:20210726T163609Z
UID:17875-1632043800-1632043800@sub5.com
SUMMARY:Tradewinds Great Pumpkin 4K Road Race
DESCRIPTION:Part of the 2021 Tradewinds/Sub 5 Track Club Race Series \nDownload race application…
URL:https://sub5.com/event/tradewinds-great-pumpkin-4k-road-race-6/
LOCATION:Tradewinds Marketplace\, Blue Hill\, ME\, United States
CATEGORIES:Road Race
END:VEVENT
BEGIN:VEVENT
DTSTART;TZID=UTC:20210926T090000
DTEND;TZID=UTC:20210926T090000
DTSTAMP:20260422T220437
CREATED:20210727T173415Z
LAST-MODIFIED:20210727T173415Z
UID:17878-1632646800-1632646800@sub5.com
SUMMARY:Commit To Get Fit 5K/10K
DESCRIPTION:Link to race website…
URL:https://sub5.com/event/commit-to-get-fit-5k-10k-2/
LOCATION:Broadway Park\, Broadway\, Bangor\, ME\, United States
CATEGORIES:Road Race
END:VEVENT
END:VCALENDAR