BEGIN:VCALENDAR
VERSION:2.0
PRODID:-//Sub 5 Track Club - ECPv6.15.15//NONSGML v1.0//EN
CALSCALE:GREGORIAN
METHOD:PUBLISH
X-WR-CALNAME:Sub 5 Track Club
X-ORIGINAL-URL:https://sub5.com
X-WR-CALDESC:Events for Sub 5 Track Club
REFRESH-INTERVAL;VALUE=DURATION:PT1H
X-Robots-Tag:noindex
X-PUBLISHED-TTL:PT1H
BEGIN:VTIMEZONE
TZID:UTC
BEGIN:STANDARD
TZOFFSETFROM:+0000
TZOFFSETTO:+0000
TZNAME:UTC
DTSTART:20220101T000000
END:STANDARD
END:VTIMEZONE
BEGIN:VEVENT
DTSTART;TZID=UTC:20230506T100000
DTEND;TZID=UTC:20230506T100000
DTSTAMP:20260421T154301
CREATED:20230401T154038Z
LAST-MODIFIED:20230401T154038Z
UID:21974-1683367200-1683367200@sub5.com
SUMMARY:Bridge the Gap 10 Mile/3 Mile
DESCRIPTION:
URL:https://sub5.com/event/bridge-the-gap-10-mile-3-mile/
LOCATION:Penobscot Narrows Bridge\, Prospect\, Maine
CATEGORIES:Road Race
END:VEVENT
BEGIN:VEVENT
DTSTART;TZID=UTC:20230529T090000
DTEND;TZID=UTC:20230529T090000
DTSTAMP:20260421T154301
CREATED:20230422T141820Z
LAST-MODIFIED:20230422T141820Z
UID:22098-1685350800-1685350800@sub5.com
SUMMARY:Old Town - Orono YMCA Memorial Day 5K Run/Walk
DESCRIPTION:Date: May 29\, 2023\nTime: 8a Registration/check-in\n9a Race Starts\nVenue: Old Town-Orono Y\, 472 Stillwater Ave.\, Old Town
URL:https://sub5.com/event/old-town-orono-ymca-memorial-day-5k-run-walk/
LOCATION:Old Town – Orono YMCA\, Old Town\, ME\, United States
CATEGORIES:Road Race
END:VEVENT
BEGIN:VEVENT
DTSTART;TZID=UTC:20230529T090000
DTEND;TZID=UTC:20230529T090000
DTSTAMP:20260421T154301
CREATED:20230422T142249Z
LAST-MODIFIED:20230422T142249Z
UID:22101-1685350800-1685350800@sub5.com
SUMMARY:Ellsworth YMCA Memorial Mile
DESCRIPTION:Link to race website… \nLink to online registration…
URL:https://sub5.com/event/ellsworth-ymca-memorial-mile/
LOCATION:Ellsworth Chamber of Commerce\, Ellsworth\, ME\, United States
CATEGORIES:Road Race
END:VEVENT
END:VCALENDAR