BEGIN:VCALENDAR
VERSION:2.0
PRODID:-//Sub 5 Track Club - ECPv6.15.15//NONSGML v1.0//EN
CALSCALE:GREGORIAN
METHOD:PUBLISH
X-ORIGINAL-URL:https://sub5.com
X-WR-CALDESC:Events for Sub 5 Track Club
REFRESH-INTERVAL;VALUE=DURATION:PT1H
X-Robots-Tag:noindex
X-PUBLISHED-TTL:PT1H
BEGIN:VTIMEZONE
TZID:UTC
BEGIN:STANDARD
TZOFFSETFROM:+0000
TZOFFSETTO:+0000
TZNAME:UTC
DTSTART:20220101T000000
END:STANDARD
END:VTIMEZONE
BEGIN:VEVENT
DTSTART;TZID=UTC:20230604T090000
DTEND;TZID=UTC:20230604T090000
DTSTAMP:20260421T141651
CREATED:20230401T144911Z
LAST-MODIFIED:20230401T144911Z
UID:21948-1685869200-1685869200@sub5.com
SUMMARY:32nd Cobscook Bay Road Races - 5K/10K/Kids Fun Run
DESCRIPTION:32nd Cobscook Bay Road Races – 5k/10k/Kids Fun Run\nSunday June 4 – 9am\nRace Website: www.runsignup.com/cobscookraces\nDescription:  Celebrating 32 years of running and walking on the shores of Cobscook Bay in support of Down East Hospice Volunteers! Please come on Sunday June 4\, 2023 to WALK or RUN a 5k\, 10k\, or FREE KIDS FUN RUN and enjoy the picnic afterwards at Reversing Falls in celebration of all your hard work!\n\nUSATF certified 10k course\nProud to be part of the Sub 5 Race Series!
URL:https://sub5.com/event/32nd-cobscook-bay-road-races-5k-10k-kids-fun-run/
LOCATION:Pembroke\, ME\, Pembroke\, ME\, United States
CATEGORIES:Road Race
END:VEVENT
BEGIN:VEVENT
DTSTART;TZID=UTC:20230617T080000
DTEND;TZID=UTC:20230617T080000
DTSTAMP:20260421T141651
CREATED:20230525T124311Z
LAST-MODIFIED:20230525T124311Z
UID:22615-1686988800-1686988800@sub5.com
SUMMARY:Lamoreau Pineo Hudson Memorial Scholarship Fund 5K
DESCRIPTION:Link to race flyer…
URL:https://sub5.com/event/lamoreau-pineo-hudson-memorial-scholarship-fund-5k/
LOCATION:Hudson Recreation Center
CATEGORIES:Road Race
END:VEVENT
BEGIN:VEVENT
DTSTART;TZID=UTC:20230624T090000
DTEND;TZID=UTC:20230624T090000
DTSTAMP:20260421T141651
CREATED:20230422T135838Z
LAST-MODIFIED:20230422T135838Z
UID:22090-1687597200-1687597200@sub5.com
SUMMARY:Get Your Rear In Gear 5K
DESCRIPTION:
URL:https://sub5.com/event/get-your-rear-in-gear-5k/
LOCATION:Edward Payson Park\, Portland\, Maine
CATEGORIES:Road Race
END:VEVENT
BEGIN:VEVENT
DTSTART;TZID=UTC:20230625T083000
DTEND;TZID=UTC:20230625T083000
DTSTAMP:20260421T141651
CREATED:20230401T154502Z
LAST-MODIFIED:20230401T154502Z
UID:21978-1687681800-1687681800@sub5.com
SUMMARY:Crush Cancer 5K Run and Walk
DESCRIPTION:
URL:https://sub5.com/event/crush-cancer-5k-run-and-walk/
LOCATION:Municipal Landing\, Jonesboro
CATEGORIES:Road Race
END:VEVENT
END:VCALENDAR