BEGIN:VCALENDAR
VERSION:2.0
PRODID:-//Sub 5 Track Club - ECPv6.15.15//NONSGML v1.0//EN
CALSCALE:GREGORIAN
METHOD:PUBLISH
X-ORIGINAL-URL:https://sub5.com
X-WR-CALDESC:Events for Sub 5 Track Club
REFRESH-INTERVAL;VALUE=DURATION:PT1H
X-Robots-Tag:noindex
X-PUBLISHED-TTL:PT1H
BEGIN:VTIMEZONE
TZID:UTC
BEGIN:STANDARD
TZOFFSETFROM:+0000
TZOFFSETTO:+0000
TZNAME:UTC
DTSTART:20220101T000000
END:STANDARD
END:VTIMEZONE
BEGIN:VEVENT
DTSTART;TZID=UTC:20230702T090000
DTEND;TZID=UTC:20230702T090000
DTSTAMP:20260421T124453
CREATED:20230607T120312Z
LAST-MODIFIED:20230607T120333Z
UID:22864-1688288400-1688288400@sub5.com
SUMMARY:Charles E Davis Independence Run
DESCRIPTION:Charles E Davis Independence Run\n7mi run and 4mi walk\nEastport\, ME\n\nRegistration – \nhttps://runsignup.com/Race/ME/Eastport/CharlesEDavisIndependenceRun
URL:https://sub5.com/event/charles-e-davis-independence-run/
LOCATION:Shead High School\, Eastport\, Maine
CATEGORIES:Road Race
END:VEVENT
BEGIN:VEVENT
DTSTART;TZID=UTC:20230704T080000
DTEND;TZID=UTC:20230704T080000
DTSTAMP:20260421T124453
CREATED:20230614T141956Z
LAST-MODIFIED:20230614T141956Z
UID:22899-1688457600-1688457600@sub5.com
SUMMARY:Friends on the Fourth 5K
DESCRIPTION:Event flyer… \nPress release…
URL:https://sub5.com/event/friends-on-the-fourth-5k-2/
LOCATION:American Legion\, 117 Bowdoin St\, Winthrop\, ME\, United States
CATEGORIES:Road Race
END:VEVENT
BEGIN:VEVENT
DTSTART;TZID=UTC:20230704T094500
DTEND;TZID=UTC:20230704T094500
DTSTAMP:20260421T124453
CREATED:20230526T133042Z
LAST-MODIFIED:20230526T133042Z
UID:22634-1688463900-1688463900@sub5.com
SUMMARY:42nd Annual Walter Hunt 4th of July 3K
DESCRIPTION:Link to online registration… \n 
URL:https://sub5.com/event/42nd-annual-walter-hunt-4th-of-july-3k/
LOCATION:Brewer Auditorium\, Wilson Street\, Brewer
CATEGORIES:Road Race
END:VEVENT
BEGIN:VEVENT
DTSTART;TZID=UTC:20230715T080000
DTEND;TZID=UTC:20230715T080000
DTSTAMP:20260421T124453
CREATED:20230401T150138Z
LAST-MODIFIED:20230401T150246Z
UID:21955-1689408000-1689408000@sub5.com
SUMMARY:Bradford Days 5K Road Race
DESCRIPTION:Start at the Bradford Baptist Church parking lot. Race is timed and marked. Race will benefit\, by donations\, Bradford’s Little Angels at Christmas time
URL:https://sub5.com/event/bradford-days-5k-road-race/
LOCATION:Bradford Baptist Church\, Bradford\, ME\, United States
CATEGORIES:Road Race
END:VEVENT
BEGIN:VEVENT
DTSTART;TZID=UTC:20230722T080000
DTEND;TZID=UTC:20230722T080000
DTSTAMP:20260421T124453
CREATED:20230704T200004Z
LAST-MODIFIED:20230704T200004Z
UID:22972-1690012800-1690012800@sub5.com
SUMMARY:Bucksport Bay Festival 3 Mile Family Fun Run and Dog Walk
DESCRIPTION:Download race flyer…
URL:https://sub5.com/event/bucksport-bay-festival-3-mile-family-fun-run-and-dog-walk/
LOCATION:Bucksport Community Swimming Pool
CATEGORIES:Road Race
END:VEVENT
BEGIN:VEVENT
DTSTART;TZID=UTC:20230722T090000
DTEND;TZID=UTC:20230722T090000
DTSTAMP:20260421T124453
CREATED:20230624T224446Z
LAST-MODIFIED:20230624T224446Z
UID:22931-1690016400-1690016400@sub5.com
SUMMARY:Run for Hope 5K and 1 Mile Fun Run
DESCRIPTION:Link to flyer…
URL:https://sub5.com/event/run-for-hope-5k-and-1-mile-fun-run/
LOCATION:Center Drive School\, Orrington\, Maine
CATEGORIES:Road Race
END:VEVENT
BEGIN:VEVENT
DTSTART;TZID=UTC:20230728T180000
DTEND;TZID=UTC:20230728T180000
DTSTAMP:20260421T124453
CREATED:20230624T225105Z
LAST-MODIFIED:20230624T225105Z
UID:22936-1690567200-1690567200@sub5.com
SUMMARY:Spandits 5K Trail Race and and Kid's 1 Miler
DESCRIPTION:Spandits 5K Trail race and Kid’s 1-miler and will be held on the Mt. Blue High School XC course. All proceeds go towards the MBXC teams. The race will be on Friday\, July 28th.\n\nHere is the link to the document/hardcopy of the application.\n\nhttps://docs.google.com/document/d/1XR9dxI4_n5H880EsNlUL2xHil-coSVvLzm9d1Wyyu7w/edit\n\nHere is the link to the online registration form.\nhttps://form.jotform.com/51745412000137
URL:https://sub5.com/event/spandits-5k-trail-race-and-and-kids-1-miler/
LOCATION:Mt. Blue High School\, 129 Seamon Rd\, Farmington\, ME\, United States
CATEGORIES:Road Race,Trail Run
END:VEVENT
BEGIN:VEVENT
DTSTART;TZID=UTC:20230729T090000
DTEND;TZID=UTC:20230729T090000
DTSTAMP:20260421T124453
CREATED:20230614T142345Z
LAST-MODIFIED:20230614T142345Z
UID:22905-1690621200-1690621200@sub5.com
SUMMARY:Stockton Springs Ambulance Service Run For Your Life 5K
DESCRIPTION:Stockton Springs Ambulance Service Run For Your Life 5K \nLink to registration form… \n\nThe Stockton Springs Ambulance will be having its annual Run For Your Life 5K Race on Saturday\, July 29\, 2023 sponsored by the Stockton Springs Community Builders. The race benefits the ambulance service.  The race is an out and back that begins at 9:00 AM at the Stockton Springs Town Office (217 Main St\, Stockton Springs\, ME 04981). Parts of this race run along the Penobscot Bay and racers are encouraged to attend the Stockton Springs Harbor Day at the Cape Docks on Cape Jellison for a cookout\, music\, boat rides\, kayaking and possibly sailing (wind dependent).\n\nAny questions please contact Jen Skala\, jpskala@gmail.com or 207-949-4323 
URL:https://sub5.com/event/stockton-springs-ambulance-service-run-for-your-life-5k/
LOCATION:Stockton Springs Town Office\, Stockton Springs\, ME\, United States
CATEGORIES:Road Race
END:VEVENT
END:VCALENDAR