BEGIN:VCALENDAR
VERSION:2.0
PRODID:-//Sub 5 Track Club - ECPv6.15.15//NONSGML v1.0//EN
CALSCALE:GREGORIAN
METHOD:PUBLISH
X-ORIGINAL-URL:https://sub5.com
X-WR-CALDESC:Events for Sub 5 Track Club
REFRESH-INTERVAL;VALUE=DURATION:PT1H
X-Robots-Tag:noindex
X-PUBLISHED-TTL:PT1H
BEGIN:VTIMEZONE
TZID:UTC
BEGIN:STANDARD
TZOFFSETFROM:+0000
TZOFFSETTO:+0000
TZNAME:UTC
DTSTART:20220101T000000
END:STANDARD
END:VTIMEZONE
BEGIN:VEVENT
DTSTART;TZID=UTC:20230805T080000
DTEND;TZID=UTC:20230805T080000
DTSTAMP:20260421T113005
CREATED:20230709T152355Z
LAST-MODIFIED:20230709T152355Z
UID:23003-1691222400-1691222400@sub5.com
SUMMARY:Pony Pride 5K
DESCRIPTION:Download race application… \n 
URL:https://sub5.com/event/pony-pride-5k/
LOCATION:Foxcroft Academy\, Dover-Foxcroft\, ME\, United States
CATEGORIES:Road Race
END:VEVENT
END:VCALENDAR