BEGIN:VCALENDAR
VERSION:2.0
PRODID:-//Sub 5 Track Club - ECPv6.15.15//NONSGML v1.0//EN
CALSCALE:GREGORIAN
METHOD:PUBLISH
X-WR-CALNAME:Sub 5 Track Club
X-ORIGINAL-URL:https://sub5.com
X-WR-CALDESC:Events for Sub 5 Track Club
REFRESH-INTERVAL;VALUE=DURATION:PT1H
X-Robots-Tag:noindex
X-PUBLISHED-TTL:PT1H
BEGIN:VTIMEZONE
TZID:UTC
BEGIN:STANDARD
TZOFFSETFROM:+0000
TZOFFSETTO:+0000
TZNAME:UTC
DTSTART:20220101T000000
END:STANDARD
END:VTIMEZONE
BEGIN:VEVENT
DTSTART;TZID=UTC:20231112T090000
DTEND;TZID=UTC:20231112T090000
DTSTAMP:20260421T072745
CREATED:20231107T132624Z
LAST-MODIFIED:20231107T132624Z
UID:23861-1699779600-1699779600@sub5.com
SUMMARY:Veterans Remembrance 4 Miler
DESCRIPTION:Link to event on Facebook… \nLink to online registration… \n 
URL:https://sub5.com/event/veterans-remembrance-4-miler/
LOCATION:Ellsworth YMCA\, Ellsworth\, ME\, United States
CATEGORIES:Road Race
END:VEVENT
BEGIN:VEVENT
DTSTART;TZID=UTC:20231119T130000
DTEND;TZID=UTC:20231119T130000
DTSTAMP:20260421T072745
CREATED:20231002T140644Z
LAST-MODIFIED:20231002T140644Z
UID:23602-1700398800-1700398800@sub5.com
SUMMARY:42nd Annual Brewer High Turkey Trot 3 Miler
DESCRIPTION:Link to online registration… \nLink to race Facebook page… \nLink to paper registration form…
URL:https://sub5.com/event/42nd-annual-brewer-high-turkey-trot-3-miler/
LOCATION:Brewer High School\, 79 Parkway South\, Brewer\, ME\, 04412\, United States
CATEGORIES:Road Race
END:VEVENT
END:VCALENDAR