BEGIN:VCALENDAR
VERSION:2.0
PRODID:-//Sub 5 Track Club - ECPv6.15.15//NONSGML v1.0//EN
CALSCALE:GREGORIAN
METHOD:PUBLISH
X-WR-CALNAME:Sub 5 Track Club
X-ORIGINAL-URL:https://sub5.com
X-WR-CALDESC:Events for Sub 5 Track Club
REFRESH-INTERVAL;VALUE=DURATION:PT1H
X-Robots-Tag:noindex
X-PUBLISHED-TTL:PT1H
BEGIN:VTIMEZONE
TZID:UTC
BEGIN:STANDARD
TZOFFSETFROM:+0000
TZOFFSETTO:+0000
TZNAME:UTC
DTSTART:20220101T000000
END:STANDARD
END:VTIMEZONE
BEGIN:VEVENT
DTSTART;TZID=UTC:20231231T090000
DTEND;TZID=UTC:20231231T090000
DTSTAMP:20260421T060615
CREATED:20231215T160617Z
LAST-MODIFIED:20231215T160617Z
UID:23954-1704013200-1704013200@sub5.com
SUMMARY:Finale 5K
DESCRIPTION:Link to online registration… \nFirst race in the 2024 Sub 5 Race Series! \nBib pick-up and race-day registration ($25) will take place at the Bangor Arts Exchange (BAE) at 193 Exchange Street\, Bangor starting at 7:30 AM Dec. 31. Registration closes at 8:25. \nThe race will begin at 9:00 AM in West Market Square near Paddy Murphy’s (25 Broad St.). \nThe Finale 5K will take place Sunday\, December 31\, 2023 at 9 AM in Bangor. \nRecast as the Finale 5K last year this year we are back again! \nThe course is the same as the last Epic Finale\, starting on Broad Street in West Market Square\, beside Paddy Murphy’s. \nOnline registration ($20) will close December 28 at 11:59PM. \nThe first 50 registrants receive a free Finale 5K blue neon knit hat. Only the first 50 registrants will receive a hat. \nRace-day registration ($25) and bib pick-up will take place at the Bangor Arts Exchange at 193 Exchange Street. Registration will open at 7:30 and close at 8:25 AM. For race-day registration we are cash and check only. \nRace will be officially timed by Brewer Timing Services. \nWe have every intention of hosting this race as scheduled. However\, please be aware that weather and road safety could impact the event and refunds will not be available. The race course is not closed and participants should be cautious of traffic.
URL:https://sub5.com/event/finale-5k-2/
LOCATION:Downtown Bangor
CATEGORIES:Road Race
END:VEVENT
END:VCALENDAR