BEGIN:VCALENDAR
VERSION:2.0
PRODID:-//Sub 5 Track Club - ECPv6.15.15//NONSGML v1.0//EN
CALSCALE:GREGORIAN
METHOD:PUBLISH
X-WR-CALNAME:Sub 5 Track Club
X-ORIGINAL-URL:https://sub5.com
X-WR-CALDESC:Events for Sub 5 Track Club
REFRESH-INTERVAL;VALUE=DURATION:PT1H
X-Robots-Tag:noindex
X-PUBLISHED-TTL:PT1H
BEGIN:VTIMEZONE
TZID:UTC
BEGIN:STANDARD
TZOFFSETFROM:+0000
TZOFFSETTO:+0000
TZNAME:UTC
DTSTART:20230101T000000
END:STANDARD
END:VTIMEZONE
BEGIN:VEVENT
DTSTART;TZID=UTC:20240406T110000
DTEND;TZID=UTC:20240406T110000
DTSTAMP:20260420T234721
CREATED:20240201T160919Z
LAST-MODIFIED:20240201T160919Z
UID:24173-1712401200-1712401200@sub5.com
SUMMARY:Spring Into Action 5K
DESCRIPTION:On April 6th\, the Title IX services at the University of Maine will hold their first Spring into Action 5k fun run to raise funds during sexual assault awareness month. All our proceeds will be donated to Rape Response Services who supports victims in our area. \nhttps://racewire.com/register.php?id=13888
URL:https://sub5.com/event/spring-into-action-5k/
LOCATION:University of Maine\, Orono\, ME\, United States
CATEGORIES:Road Race
END:VEVENT
BEGIN:VEVENT
DTSTART;TZID=UTC:20240421T070000
DTEND;TZID=UTC:20240421T070000
DTSTAMP:20260420T234721
CREATED:20240327T205706Z
LAST-MODIFIED:20240327T205706Z
UID:24382-1713682800-1713682800@sub5.com
SUMMARY:Cobscook Backyard Ultra 50K/50M
DESCRIPTION:Cobscook Backyard Ultra – 50k/50M\nDate: Sunday\, April 21\, 2024\nLocation: Edmunds TWP\, ME\nWebsite: https://runsignup.com/cobscookbackyard\nDescription: Come and run an easy 5 Km or 4.167 mile (6.706 Km) loops – just a stroll in the Park!  If you want to spend Sunday 21 April in the beautiful Cobscook Bay State Park running and walking your first\, or a different kind of\, 50 Km or 50 mile Ultra with a great group of people\, then why not sign up and join the fun? Or bring 1 or more friends and split the distance between you as a team entry. \nIf you can run/walk 3.1 miles in 1 hour then do it again next hour\, and then again for 10 laps/hours in total\, then you can finish a 50K in 10 hours. Or if you don’t think you can do it all alone\, find a friend or two and divide it up as a Relay Team of 2 or 3\, just so long as one team member completes each lap. \nOr run/walk 4.167 miles each hour over and over again for 12 laps/hours in total for a 50 miler.  Again\, do it as an individual or as a Relay Team of 2 or 3\, just so long as one member completes each lap.
URL:https://sub5.com/event/cobscook-backyard-ultra-50k-50m/
LOCATION:Cobscook Bay State Park\, Dennysville\, Maine
CATEGORIES:Road Race
END:VEVENT
BEGIN:VEVENT
DTSTART;TZID=UTC:20240427T100000
DTEND;TZID=UTC:20240427T100000
DTSTAMP:20260420T234721
CREATED:20240228T163755Z
LAST-MODIFIED:20240228T163755Z
UID:24308-1714212000-1714212000@sub5.com
SUMMARY:UTC Skillful Strides 5K Run/Walk
DESCRIPTION:Link to online registration… \nDownload race flyer…
URL:https://sub5.com/event/utc-skillful-strides-5k-run-walk/
LOCATION:United Technologies Center\, 200 Hogan Road\, Bangor\, ME\, United States
CATEGORIES:Road Race
END:VEVENT
END:VCALENDAR