BEGIN:VCALENDAR
VERSION:2.0
PRODID:-//Sub 5 Track Club - ECPv6.15.15//NONSGML v1.0//EN
CALSCALE:GREGORIAN
METHOD:PUBLISH
X-ORIGINAL-URL:https://sub5.com
X-WR-CALDESC:Events for Sub 5 Track Club
REFRESH-INTERVAL;VALUE=DURATION:PT1H
X-Robots-Tag:noindex
X-PUBLISHED-TTL:PT1H
BEGIN:VTIMEZONE
TZID:UTC
BEGIN:STANDARD
TZOFFSETFROM:+0000
TZOFFSETTO:+0000
TZNAME:UTC
DTSTART:20230101T000000
END:STANDARD
END:VTIMEZONE
BEGIN:VEVENT
DTSTART;TZID=UTC:20240504T080000
DTEND;TZID=UTC:20240504T080000
DTSTAMP:20260420T221746
CREATED:20240411T192906Z
LAST-MODIFIED:20240411T192906Z
UID:24437-1714809600-1714809600@sub5.com
SUMMARY:Bridge the Gap 10 Miler / 5K
DESCRIPTION:Link to race website…
URL:https://sub5.com/event/bridge-the-gap-10-miler-5k/
LOCATION:Bucksport YMCA\, 66 Bridge Street\, Bucksport\, ME\, United States
CATEGORIES:Road Race
END:VEVENT
BEGIN:VEVENT
DTSTART;TZID=UTC:20240511T100000
DTEND;TZID=UTC:20240511T100000
DTSTAMP:20260420T221746
CREATED:20240411T192205Z
LAST-MODIFIED:20240411T192205Z
UID:24430-1715421600-1715421600@sub5.com
SUMMARY:Bangor Beautiful Mural Fun Run
DESCRIPTION:Hello! Bangor Beautiful is excited to announce our very first Mural Fun Run! We’ll be meeting up on Saturday\, May 11th to run (at a party pace) through Bangor\, admiring and learning more about the murals that make our city beautiful. At each mural\, you’ll also receive a totally rad button that includes an image of the mural. The cost is a suggested donation of $20. All paces and faces are welcome. Please join us and share with your family + friends! Here is the link to register: https://www.eventbrite.com/…/bangor-beautiful-mural-fun…
URL:https://sub5.com/event/bangor-beautiful-mural-fun-run/
LOCATION:Chimera Coffee\, 24 Broad Street\, Bangor\, ME\, United States
CATEGORIES:Road Race
END:VEVENT
BEGIN:VEVENT
DTSTART;TZID=UTC:20240519T090000
DTEND;TZID=UTC:20240519T090000
DTSTAMP:20260420T221746
CREATED:20240228T214748Z
LAST-MODIFIED:20240228T214748Z
UID:24324-1716109200-1716109200@sub5.com
SUMMARY:The Great World Peace 5K
DESCRIPTION:Download event flyer…
URL:https://sub5.com/event/the-great-world-peace-5k/
LOCATION:Mansfield Sports Complex\, Bangor\, ME\, United States
CATEGORIES:Road Race
END:VEVENT
BEGIN:VEVENT
DTSTART;TZID=UTC:20240519T110000
DTEND;TZID=UTC:20240519T110000
DTSTAMP:20260420T221746
CREATED:20240411T192516Z
LAST-MODIFIED:20240411T192516Z
UID:24434-1716116400-1716116400@sub5.com
SUMMARY:Colors for a Cause 5K
DESCRIPTION:Link to online registration…
URL:https://sub5.com/event/colors-for-a-cause-5k/
LOCATION:Bangor Waterfront\, Bamgor\, ME\, United States
CATEGORIES:Road Race
END:VEVENT
BEGIN:VEVENT
DTSTART;TZID=UTC:20240527T090000
DTEND;TZID=UTC:20240527T090000
DTSTAMP:20260420T221746
CREATED:20240411T191808Z
LAST-MODIFIED:20240411T191808Z
UID:24427-1716800400-1716800400@sub5.com
SUMMARY:Main Street Memorial Mile
DESCRIPTION:Link to race Facebook page… \nLink to online registration… \n  \n 
URL:https://sub5.com/event/main-street-memorial-mile-5/
LOCATION:Ellsworth Chamber of Commerce\, Ellsworth\, ME\, United States
CATEGORIES:Road Race
END:VEVENT
END:VCALENDAR