BEGIN:VCALENDAR
VERSION:2.0
PRODID:-//Sub 5 Track Club - ECPv6.15.15//NONSGML v1.0//EN
CALSCALE:GREGORIAN
METHOD:PUBLISH
X-WR-CALNAME:Sub 5 Track Club
X-ORIGINAL-URL:https://sub5.com
X-WR-CALDESC:Events for Sub 5 Track Club
REFRESH-INTERVAL;VALUE=DURATION:PT1H
X-Robots-Tag:noindex
X-PUBLISHED-TTL:PT1H
BEGIN:VTIMEZONE
TZID:UTC
BEGIN:STANDARD
TZOFFSETFROM:+0000
TZOFFSETTO:+0000
TZNAME:UTC
DTSTART:20230101T000000
END:STANDARD
END:VTIMEZONE
BEGIN:VEVENT
DTSTART;TZID=UTC:20240704T080000
DTEND;TZID=UTC:20240704T080000
DTSTAMP:20260420T190940
CREATED:20240213T184311Z
LAST-MODIFIED:20240213T184311Z
UID:24238-1720080000-1720080000@sub5.com
SUMMARY:Friends on the Fourth 5K Race/Walk
DESCRIPTION:The Friends of the Cobbossee Watershed are pleased to be hosting their annual Friends on the Fourth 5 K  Race/Walk on Thursday\, July 4th\nBegins at 8 am at the American Legion in Winthrop\, Maine\nFor details and registration\, visit www.watershedfriends.com
URL:https://sub5.com/event/friends-on-the-fourth-5k-race-walk/
LOCATION:American Legion\, 117 Bowdoin St\, Winthrop\, ME\, United States
CATEGORIES:Road Race
END:VEVENT
BEGIN:VEVENT
DTSTART;TZID=UTC:20240704T094500
DTEND;TZID=UTC:20240704T094500
DTSTAMP:20260420T190940
CREATED:20240526T180908Z
LAST-MODIFIED:20240526T180955Z
UID:25033-1720086300-1720086300@sub5.com
SUMMARY:43rd Annual Walter Hunt 4th of July 3K
DESCRIPTION:Along the Brewer-Bangor parade route with thousands of spectators.  Race #7 in the Maine Savings Sub 5 Race Series.  Sponsored by Dead River Company and Versant Power. \nRace flyer… \nLink to online registration… \n\n\nDescription\n\n\n43rd Annual Walter Hunt 4th of July 3K Road Race.    \nMaine’s Fastest Road Race! Come be part of this fast\, exciting race just before the 4th of July parade! \nThursday\, July 4\, 2024. Race begins @ 9:45 a.m. \nCourse Description: One word…Fast!  The race route runs along the 4th of July parade route\, 15 minutes before the 4th of July parade. Want that experience of people cheering for you in a race? This is the race for you. Sign up and let the parade crowd “push” you to the finish! \nOnline Registration is open through June 30\, 2024\, at 11:59 p.m. Race registration is free for Sub5 track club members with current membership standing. Members must register membership in advance and use Runsignup login to receive online discount. \nBib pick-up for all pre-registered runners and race-day registration will be at Brewer Auditorium from 8:00 to 9:05 a.m.  BIB PICK-UP AND REGISTRATION CLOSES AT 9:05 a.m.! Race day registration will be $25. Team registration pricing on race day is $75. Race-day registration is cash or check only. \nWater and post-race snacks will be available at the race finish. \nNEW THIS YEAR! Our race participant item is being upgraded from cotton to a tech shirt. Because this comes with an additional cost and other increased costs we’ve decided to make it an add-on. This means\, you can register for the race for the same low price (free for Sub5 members) but if you want the shirt it is an additional $10. Details are in the registration. \nThank you to race sponsors Dead River Company and Versant. \n\n\n\n\n\n\nPlace\nBrewer Auditorium\nWilson Street\nBrewer\, ME US 04412
URL:https://sub5.com/event/43rd-annual-walter-hunt-4th-of-july-3k/
LOCATION:Brewer Auditorium\, Wilson Street\, Brewer
CATEGORIES:Road Race
END:VEVENT
BEGIN:VEVENT
DTSTART;TZID=UTC:20240713T090000
DTEND;TZID=UTC:20240713T090000
DTSTAMP:20260420T190940
CREATED:20240527T151203Z
LAST-MODIFIED:20240527T151203Z
UID:25059-1720861200-1720861200@sub5.com
SUMMARY:Pierpole Day 5K
DESCRIPTION:Link to online registration…
URL:https://sub5.com/event/pierpole-day-5k-2/
LOCATION:Strong Area Health and Dental Center\, 177 North Main Street\, Strong\, ME\, United States
CATEGORIES:Road Race
END:VEVENT
BEGIN:VEVENT
DTSTART;TZID=UTC:20240727T083000
DTEND;TZID=UTC:20240727T083000
DTSTAMP:20260420T190940
CREATED:20240707T151651Z
LAST-MODIFIED:20240707T151651Z
UID:25283-1722069000-1722069000@sub5.com
SUMMARY:Milbridge Days 5K
DESCRIPTION:July 27th – Milbridge Days 5k\nRegistration Link:  https://runsignup.com/Race/ME/Milbridge/2024MilbridgeDays5KandFunRun\ninformation:\nPre-registration is from May 1st through Wednesday\, July 24th.\nRegistration is $20. Participants who register before July 1st will receive a race t-shirt!\nDay-of registration: 7:00 – 7:45 am at the corner of Bay View Road and Fickett’s Point Road.\n5K begins at 8:30 am.
URL:https://sub5.com/event/milbridge-days-5k/
LOCATION:Bayview Road\, Milbridge
CATEGORIES:Road Race
END:VEVENT
END:VCALENDAR