BEGIN:VCALENDAR
VERSION:2.0
PRODID:-//Sub 5 Track Club - ECPv6.15.15//NONSGML v1.0//EN
CALSCALE:GREGORIAN
METHOD:PUBLISH
X-WR-CALNAME:Sub 5 Track Club
X-ORIGINAL-URL:https://sub5.com
X-WR-CALDESC:Events for Sub 5 Track Club
REFRESH-INTERVAL;VALUE=DURATION:PT1H
X-Robots-Tag:noindex
X-PUBLISHED-TTL:PT1H
BEGIN:VTIMEZONE
TZID:UTC
BEGIN:STANDARD
TZOFFSETFROM:+0000
TZOFFSETTO:+0000
TZNAME:UTC
DTSTART:20230101T000000
END:STANDARD
END:VTIMEZONE
BEGIN:VEVENT
DTSTART;TZID=UTC:20241005T093000
DTEND;TZID=UTC:20241005T093000
DTSTAMP:20260420T141858
CREATED:20240814T133016Z
LAST-MODIFIED:20240814T133016Z
UID:25325-1728120600-1728120600@sub5.com
SUMMARY:Flutie 5K for Autism at Pine Tree Camp
DESCRIPTION:Download race flyer… \n 
URL:https://sub5.com/event/flutie-5k-for-autism-at-pine-tree-camp/
LOCATION:Pine Tree Camp\, 114 Pine Tree Camp Road\, Rome\, Maine
CATEGORIES:Road Race
END:VEVENT
BEGIN:VEVENT
DTSTART;TZID=UTC:20241013T090000
DTEND;TZID=UTC:20241013T090000
DTSTAMP:20260420T141858
CREATED:20240914T133941Z
LAST-MODIFIED:20240914T133941Z
UID:25545-1728810000-1728810000@sub5.com
SUMMARY:Central Maine Striders Fall Classic 10K
DESCRIPTION:Link to online registration…
URL:https://sub5.com/event/central-maine-striders-fall-classic-10k-2/
LOCATION:Quarry Road – Waterville
CATEGORIES:Road Race
END:VEVENT
BEGIN:VEVENT
DTSTART;TZID=UTC:20241027T090000
DTEND;TZID=UTC:20241027T090000
DTSTAMP:20260420T141858
CREATED:20240918T170312Z
LAST-MODIFIED:20240918T170312Z
UID:25579-1730019600-1730019600@sub5.com
SUMMARY:Moosehorn Ghost Run Half-Marathon
DESCRIPTION:October 27th – Moosehorn Ghost Run Half-Marathon\nRegistration: runsignup.com/moosehornghostrun\nInformation: 13.1 miles through Moosehorn National Wildlife Refuge\, Bold Coast Runners in Partnership with Friends of Moosehorn invite runners to explore your national wildlife refuge on foot this fall!
URL:https://sub5.com/event/moosehorn-ghost-run-half-marathon-2/
LOCATION:Moosehorn National Wildlife Refuge\, Baring\, Maine
CATEGORIES:Road Race
END:VEVENT
BEGIN:VEVENT
DTSTART;TZID=UTC:20241027T110000
DTEND;TZID=UTC:20241027T110000
DTSTAMP:20260420T141858
CREATED:20240925T144825Z
LAST-MODIFIED:20240925T144825Z
UID:25646-1730026800-1730026800@sub5.com
SUMMARY:Black Bear 5K
DESCRIPTION:Link to more information…
URL:https://sub5.com/event/black-bear-5k-10/
LOCATION:University of Maine\, Orono\, ME\, United States
CATEGORIES:Road Race
END:VEVENT
END:VCALENDAR