BEGIN:VCALENDAR
VERSION:2.0
PRODID:-//Sub 5 Track Club - ECPv6.15.15//NONSGML v1.0//EN
CALSCALE:GREGORIAN
METHOD:PUBLISH
X-ORIGINAL-URL:https://sub5.com
X-WR-CALDESC:Events for Sub 5 Track Club
REFRESH-INTERVAL;VALUE=DURATION:PT1H
X-Robots-Tag:noindex
X-PUBLISHED-TTL:PT1H
BEGIN:VTIMEZONE
TZID:UTC
BEGIN:STANDARD
TZOFFSETFROM:+0000
TZOFFSETTO:+0000
TZNAME:UTC
DTSTART:20230101T000000
END:STANDARD
END:VTIMEZONE
BEGIN:VEVENT
DTSTART;TZID=UTC:20241109T090000
DTEND;TZID=UTC:20241109T090000
DTSTAMP:20260420T125105
CREATED:20241031T135537Z
LAST-MODIFIED:20241031T135537Z
UID:26060-1731142800-1731142800@sub5.com
SUMMARY:Runnin' Monks 5K Road Race
DESCRIPTION:Link to event website… \nRace poster…
URL:https://sub5.com/event/runnin-monks-5k-road-race/
LOCATION:St. Joseph’s College\, Standish\, ME\, United States
CATEGORIES:Road Race
END:VEVENT
BEGIN:VEVENT
DTSTART;TZID=UTC:20241124T130000
DTEND;TZID=UTC:20241124T130000
DTSTAMP:20260420T125105
CREATED:20240927T001843Z
LAST-MODIFIED:20240927T001843Z
UID:25671-1732453200-1732453200@sub5.com
SUMMARY:43rd Brewer High School Turkey Trot
DESCRIPTION:Link to online registration… \nLink to race Facebook page…
URL:https://sub5.com/event/43rd-brewer-high-school-turkey-trot/
LOCATION:Brewer High School\, 79 Parkway South\, Brewer\, ME\, 04412\, United States
CATEGORIES:Road Race
END:VEVENT
END:VCALENDAR