BEGIN:VCALENDAR
VERSION:2.0
PRODID:-//Sub 5 Track Club - ECPv6.15.15//NONSGML v1.0//EN
CALSCALE:GREGORIAN
METHOD:PUBLISH
X-ORIGINAL-URL:https://sub5.com
X-WR-CALDESC:Events for Sub 5 Track Club
REFRESH-INTERVAL;VALUE=DURATION:PT1H
X-Robots-Tag:noindex
X-PUBLISHED-TTL:PT1H
BEGIN:VTIMEZONE
TZID:UTC
BEGIN:STANDARD
TZOFFSETFROM:+0000
TZOFFSETTO:+0000
TZNAME:UTC
DTSTART:20230101T000000
END:STANDARD
END:VTIMEZONE
BEGIN:VEVENT
DTSTART;TZID=UTC:20241201T090000
DTEND;TZID=UTC:20241201T090000
DTSTAMP:20260420T112816
CREATED:20241126T172337Z
LAST-MODIFIED:20241126T172337Z
UID:26132-1733043600-1733043600@sub5.com
SUMMARY:MDI YMCA Catch That Turkey 5K
DESCRIPTION:This is a fun fast 5k! Held annually the Sunday after Thanksgiving  at 9:00am this race features a MDI YMCA staff member dressed as a turkey who gets to start a bit before the pack and will finish mid-pack. Anyone who beats the turkey is entered to win a FABULOUS dessert on the spot from a local baker! This race is a fundraiser for the MDI YMCA whose mission is to ensure everyone can access membership and programming regardless of ability to pay. Thank you for supporting our work for the Island Community. \nLink to online registration…
URL:https://sub5.com/event/mdi-ymca-catch-that-turkey-5k/
LOCATION:MDI YMCA\, 21 Park Street\, Bar Harbor\, ME\, United States
CATEGORIES:Road Race
END:VEVENT
BEGIN:VEVENT
DTSTART;TZID=UTC:20241207T100000
DTEND;TZID=UTC:20241207T100000
DTSTAMP:20260420T112816
CREATED:20241126T172924Z
LAST-MODIFIED:20241126T172924Z
UID:26135-1733565600-1733565600@sub5.com
SUMMARY:Millinocket Marathon and Half
DESCRIPTION:Link to race website…
URL:https://sub5.com/event/millinocket-marathon-and-half/
LOCATION:Veterans’ Memorial Park\, Millinocket
CATEGORIES:Road Race
END:VEVENT
BEGIN:VEVENT
DTSTART;TZID=UTC:20241229T090000
DTEND;TZID=UTC:20241229T170000
DTSTAMP:20260420T112816
CREATED:20241112T144938Z
LAST-MODIFIED:20241112T144938Z
UID:26101-1735462800-1735491600@sub5.com
SUMMARY:Finale 5K
DESCRIPTION:Link to online registration… \n\n\nPlace\nBib pick-up and race-day registration ($25) will take place at the Penobscot Theatre at 131 Main Street\, Bangor starting at 7:30 AM Dec. 29. Registration closes at 8:25. \nThe race will begin at 9:00 AM near Merchants Plaza\, behind Paddy Murphy’s. This is the same race course as previous years. \n\n\n\n\nDescription\n\n\nThe Finale 5K will take place Sunday\, December 29\, 2024 at 9 AM in Bangor.  \nThe course is the same as the previously held Epic Finale\, starting near West Market Square\, behind Paddy Murphy’s. \nOnline registration ($20) will close December 26 at 11:59PM. \nThe first 50 registrants receive a free Finale 5K blue neon knit hat. Only the first 50 registrants will receive a hat. \nNEW-Race-day registration ($25) and bib pick-up will take place at the Penobscot Theatre. Registration will open at 7:30 and close at 8:25 AM. For race-day registration we are cash and check only. \nRace will be officially timed by Brewer Timing Services. \nWe have every intention of hosting this race as scheduled. However\, please be aware that weather and road safety could impact the event and refunds will not be available. The race course is not closed and participants should be cautious of traffic.
URL:https://sub5.com/event/finale-5k-3/
LOCATION:Downtown Bangor
CATEGORIES:Road Race,Sub 5 Event
END:VEVENT
END:VCALENDAR