BEGIN:VCALENDAR
VERSION:2.0
PRODID:-//Sub 5 Track Club - ECPv6.15.15//NONSGML v1.0//EN
CALSCALE:GREGORIAN
METHOD:PUBLISH
X-WR-CALNAME:Sub 5 Track Club
X-ORIGINAL-URL:https://sub5.com
X-WR-CALDESC:Events for Sub 5 Track Club
REFRESH-INTERVAL;VALUE=DURATION:PT1H
X-Robots-Tag:noindex
X-PUBLISHED-TTL:PT1H
BEGIN:VTIMEZONE
TZID:UTC
BEGIN:STANDARD
TZOFFSETFROM:+0000
TZOFFSETTO:+0000
TZNAME:UTC
DTSTART:20240101T000000
END:STANDARD
END:VTIMEZONE
BEGIN:VEVENT
DTSTART;TZID=UTC:20250503T100000
DTEND;TZID=UTC:20250503T100000
DTSTAMP:20260420T160018
CREATED:20250305T175043Z
LAST-MODIFIED:20250305T175043Z
UID:26496-1746266400-1746266400@sub5.com
SUMMARY:Skillful Strides 5K
DESCRIPTION:Dear last years participants\, \nLast year\, you helped make the Skillful Strides 5K an incredible event\, and we couldn’t have done it without you! Your energy\, dedication\, and passion for running and supporting the community made race day truly special. \nWe’re excited to invite you back for this year’s Skillful Strides 5K on May 3\, and we’d love to see you at the starting line again! \n📅 Race Date: May 3 \n📍 Location: 200 Hogan Road\, Bangor\n🎽 Register Now: https://raceroster.com/events/2025/99090/skillful-strides-2025 \nDon’t miss your chance to be part of the excitement again. Sign up today and let’s make this year’s race even greater! \nEarly Bird Until 3/1: $25 \nSee you at the finish line! \nSkillful Strides Student Leaders
URL:https://sub5.com/event/skillful-strides-5k/
LOCATION:United Technologies Center\, 200 Hogan Road\, Bangor\, ME\, United States
CATEGORIES:Road Race
END:VEVENT
BEGIN:VEVENT
DTSTART;TZID=UTC:20250517T090000
DTEND;TZID=UTC:20250517T090000
DTSTAMP:20260420T160018
CREATED:20250403T114252Z
LAST-MODIFIED:20250403T114252Z
UID:26537-1747472400-1747472400@sub5.com
SUMMARY:5K For Affordable Housing
DESCRIPTION:Link to online registration…
URL:https://sub5.com/event/5k-for-affordable-housing/
LOCATION:Blue Hill Fire Station\, Blue Hill\, ME\, United States
CATEGORIES:Road Race
END:VEVENT
BEGIN:VEVENT
DTSTART;TZID=UTC:20250517T100000
DTEND;TZID=UTC:20250517T100000
DTSTAMP:20260420T160018
CREATED:20250422T150632Z
LAST-MODIFIED:20250422T150632Z
UID:26637-1747476000-1747476000@sub5.com
SUMMARY:PCS Apple Blossom 5K
DESCRIPTION:Link to race flyer… \nLink to race website…
URL:https://sub5.com/event/pcs-apple-blossom-5k/
LOCATION:Treworgy Orchards\, Levant\, Maine
CATEGORIES:Road Race
END:VEVENT
BEGIN:VEVENT
DTSTART;TZID=UTC:20250526T090000
DTEND;TZID=UTC:20250526T090000
DTSTAMP:20260420T160018
CREATED:20250417T133844Z
LAST-MODIFIED:20250417T134435Z
UID:26602-1748250000-1748250000@sub5.com
SUMMARY:Main Street Memorial Mile
DESCRIPTION:Link to race website… \nLink to online registration… \nLink to event Facebook page… \nRACE #3 IN THE 2025 MAINE SAVINGS/SUB 5 RACE SERIES
URL:https://sub5.com/event/main-street-memorial-mile-6/
LOCATION:Ellsworth Chamber of Commerce\, Ellsworth\, ME\, United States
CATEGORIES:Road Race
END:VEVENT
END:VCALENDAR