BEGIN:VCALENDAR
VERSION:2.0
PRODID:-//Sub 5 Track Club - ECPv6.15.15//NONSGML v1.0//EN
CALSCALE:GREGORIAN
METHOD:PUBLISH
X-ORIGINAL-URL:https://sub5.com
X-WR-CALDESC:Events for Sub 5 Track Club
REFRESH-INTERVAL;VALUE=DURATION:PT1H
X-Robots-Tag:noindex
X-PUBLISHED-TTL:PT1H
BEGIN:VTIMEZONE
TZID:UTC
BEGIN:STANDARD
TZOFFSETFROM:+0000
TZOFFSETTO:+0000
TZNAME:UTC
DTSTART:20240101T000000
END:STANDARD
END:VTIMEZONE
BEGIN:VEVENT
DTSTART;TZID=UTC:20250608T090000
DTEND;TZID=UTC:20250608T090000
DTSTAMP:20260421T100207
CREATED:20250506T005412Z
LAST-MODIFIED:20250506T005412Z
UID:26767-1749373200-1749373200@sub5.com
SUMMARY:Cobscook Bay Road Races (5K\, 10K\, Fun Run)
DESCRIPTION:Cobscook Bay Road Races\n\nRunsignup.com/Cobscookraces\nRace website…\n\n10K is race #4 in the Maine Savings/Sub 5 Race Series
URL:https://sub5.com/event/cobscook-bay-road-races-5k-10k-fun-run/
LOCATION:Triangle Plaza\, Pembroke\, ME\, United States
CATEGORIES:Road Race
END:VEVENT
BEGIN:VEVENT
DTSTART;TZID=UTC:20250621T071500
DTEND;TZID=UTC:20250621T071500
DTSTAMP:20260421T100207
CREATED:20250429T014047Z
LAST-MODIFIED:20250605T121344Z
UID:26677-1750490100-1750490100@sub5.com
SUMMARY:Tour du Lac 10 Miler
DESCRIPTION:Download registration form… \nLink to online registration… \nOnline and paper registration ends on June 16.  After that\, day-of-race registration only. \nLink to Facebook page… \nRace #5 in the Maine Savings / Sub 5 Road Race Series \nRunners age 13-18 run free compliments of the Gatorade Player of the Year community grant from Ruth White.
URL:https://sub5.com/event/tour-du-lac-10-miler-3/
LOCATION:Bucksport Community Swimming Pool
CATEGORIES:Road Race
END:VEVENT
END:VCALENDAR