BEGIN:VCALENDAR
VERSION:2.0
PRODID:-//Sub 5 Track Club - ECPv6.15.15//NONSGML v1.0//EN
CALSCALE:GREGORIAN
METHOD:PUBLISH
X-ORIGINAL-URL:https://sub5.com
X-WR-CALDESC:Events for Sub 5 Track Club
REFRESH-INTERVAL;VALUE=DURATION:PT1H
X-Robots-Tag:noindex
X-PUBLISHED-TTL:PT1H
BEGIN:VTIMEZONE
TZID:UTC
BEGIN:STANDARD
TZOFFSETFROM:+0000
TZOFFSETTO:+0000
TZNAME:UTC
DTSTART:20240101T000000
END:STANDARD
END:VTIMEZONE
BEGIN:VEVENT
DTSTART;TZID=UTC:20250802T080000
DTEND;TZID=UTC:20250802T080000
DTSTAMP:20260421T100207
CREATED:20250702T150958Z
LAST-MODIFIED:20250702T150958Z
UID:27328-1754121600-1754121600@sub5.com
SUMMARY:27th Annual Pony Pride 5K
DESCRIPTION:This year all donations will benefit the BackPack Program that provides food for children/families in need at our local elementary school. \nDownload race entry form…
URL:https://sub5.com/event/27th-annual-pony-pride-5k/
LOCATION:Foxcroft Academy\, Dover-Foxcroft\, ME\, United States
CATEGORIES:Road Race
END:VEVENT
BEGIN:VEVENT
DTSTART;TZID=UTC:20250816T080000
DTEND;TZID=UTC:20250816T080000
DTSTAMP:20260421T100207
CREATED:20250620T215346Z
LAST-MODIFIED:20250620T215346Z
UID:27284-1755331200-1755331200@sub5.com
SUMMARY:Machias Blueberry Run - 5 Miler and 1 Mile Fun Run
DESCRIPTION:Link to Facebook page… \nLink to online registration…
URL:https://sub5.com/event/machias-blueberry-run-5-miler-and-1-mile-fun-run/
LOCATION:50 Court Street\, Machias\, Maine
CATEGORIES:Road Race
END:VEVENT
END:VCALENDAR