BEGIN:VCALENDAR
VERSION:2.0
PRODID:-//Sub 5 Track Club - ECPv6.15.15//NONSGML v1.0//EN
CALSCALE:GREGORIAN
METHOD:PUBLISH
X-WR-CALNAME:Sub 5 Track Club
X-ORIGINAL-URL:https://sub5.com
X-WR-CALDESC:Events for Sub 5 Track Club
REFRESH-INTERVAL;VALUE=DURATION:PT1H
X-Robots-Tag:noindex
X-PUBLISHED-TTL:PT1H
BEGIN:VTIMEZONE
TZID:UTC
BEGIN:STANDARD
TZOFFSETFROM:+0000
TZOFFSETTO:+0000
TZNAME:UTC
DTSTART:20240101T000000
END:STANDARD
END:VTIMEZONE
BEGIN:VEVENT
DTSTART;TZID=UTC:20250901T090000
DTEND;TZID=UTC:20250901T090000
DTSTAMP:20260421T111252
CREATED:20250722T143200Z
LAST-MODIFIED:20250722T143200Z
UID:27401-1756717200-1756717200@sub5.com
SUMMARY:Labor Day 5 Mile Road Race
DESCRIPTION:Race #7 in the Maine Savings/Sub 5 Road Race Series \nFREE to runners age 13-18! \nLink to race website…
URL:https://sub5.com/event/labor-day-5-mile-road-race-7/
LOCATION:Bangor Parks and Recreation Building\, 647 Main St.\, Bangor
CATEGORIES:Road Race
END:VEVENT
BEGIN:VEVENT
DTSTART;TZID=UTC:20250906T090000
DTEND;TZID=UTC:20250906T090000
DTSTAMP:20260421T111252
CREATED:20250818T235620Z
LAST-MODIFIED:20250818T235620Z
UID:27450-1757149200-1757149200@sub5.com
SUMMARY:Pie in the Sky - 5K and 1 Mile
DESCRIPTION:ONLINE REGISTRATION IS LIVE!!!\nrunreg.com/pie-in-the-sky-orono\n\nPie in the Sky – Where the Prizes are Pies!\nNow part of Orono Festival Day!\n\n1 Mile Fun Run  9:00 am\nPrereg: $15   Race Day: $20\nTimed race with overall and age group awards.\nAdditional prizes for best costumes and/or exhibiting the most fun!\nRegistration includes a custom embroidered Pie in the Sky 2025 patch!\n\n\n5K Road Race  10:00am\nPrereg: $20   Race Day: $25\n\nTimed race with overall and age group awards.\nRegistration includes a custom embroidered Pie in the Sky 2025 patch!\n\nRace Day is Saturday\, September 6th — RAIN or SHINE! \n\nBoth races start and finish in the Asa Adams School parking lot (behind the municipal building).\nOverall and age group awards are custom medals made out of forks!\n\nTop 3 M/F Overall and 3-13|14-19|20-29|30-39|40-49|50-59|60-69|70-79|80+\n\n\nAll winners get pies (or partial pies) as prizes!\n\n\nWe hope to have a bib pick-up event on Friday evening. We’ll keep you posted!\nFind course maps\, updates\, and more on our facebook page: facebook.com/groups/PieintheSkyRace\n\nRace Day schedule is as follows: \n1 Mile Fun Run  \n\nCheck-in and bib pick-up: 7:30-8:45am\nStart time: 9:00am\nOverall Awards (top 3 male & female) will be announced at 9:30am\nAge Group Awards and Prizes for Costumes/Exhibiting the Most Fun start at 10:05am\n\n5K Road Race \n\nCheck-in and bib pick-up: 7:30-9:45am\nStart time: 10:00\nAwards start at 10:45am\n\nQuestions or concerns? Email Race Director Nancy Marks at smarks40@gmail.com. \nBe sure to check out what else is happening on Orono Festival Day at orono.org/1065/Orono-Festival-Day
URL:https://sub5.com/event/pie-in-the-sky-5k-and-1-mile/
LOCATION:Asa Adams School\, Orono\, ME\, United States
CATEGORIES:Road Race
END:VEVENT
BEGIN:VEVENT
DTSTART;TZID=UTC:20250913T080000
DTEND;TZID=UTC:20250913T080000
DTSTAMP:20260421T111252
CREATED:20250709T143219Z
LAST-MODIFIED:20250722T143426Z
UID:27369-1757750400-1757750400@sub5.com
SUMMARY:Lamoreau Pineo Scholarship 5K
DESCRIPTION:Download race flyer…
URL:https://sub5.com/event/lamoreau-pineo-scholarship/
LOCATION:Hudson Recreation Center
CATEGORIES:Road Race
END:VEVENT
BEGIN:VEVENT
DTSTART;TZID=UTC:20250913T090000
DTEND;TZID=UTC:20250913T090000
DTSTAMP:20260421T111252
CREATED:20250704T005650Z
LAST-MODIFIED:20250704T005730Z
UID:27341-1757754000-1757754000@sub5.com
SUMMARY:Cape Split Schoolhouse Run to Benefit the Lamb House
DESCRIPTION:Cape Split Schoolhouse Run to Benefit The Lamb House – Saturday September 13th \nhttps://runsignup.com/Race/ME/Addison/CapeSplitSchoolhouseRun\n\nThe Cape Split Schoolhouse\, a community center in South Addison\, ME\, is sponsoring a 10k run and a 2.9-mile fun run/walk.  We are raising money for The Lamb House\, which is in Cherryfield\, ME.
URL:https://sub5.com/event/cape-split-schoolhouse-run-to-benefit-the-lamb-house/
LOCATION:253 Cape Split Road\, Addison\, ME\, United States
CATEGORIES:Road Race
END:VEVENT
BEGIN:VEVENT
DTSTART;TZID=UTC:20250914T093000
DTEND;TZID=UTC:20250914T093000
DTSTAMP:20260421T111252
CREATED:20250305T175850Z
LAST-MODIFIED:20250305T175850Z
UID:26506-1757842200-1757842200@sub5.com
SUMMARY:Great Pumpkin 2 Mile Road Race
DESCRIPTION:Download registration form…
URL:https://sub5.com/event/great-pumpkin-2-mile-road-race/
LOCATION:Blue Hill Hannaford
CATEGORIES:Road Race
END:VEVENT
BEGIN:VEVENT
DTSTART;TZID=UTC:20250928T083000
DTEND;TZID=UTC:20250928T083000
DTSTAMP:20260421T111252
CREATED:20250417T134249Z
LAST-MODIFIED:20250417T134249Z
UID:26605-1759048200-1759048200@sub5.com
SUMMARY:St. Joseph's Hospital Commit to Community 5K/10K/Kid's Obstacle Course
DESCRIPTION:Link to race website…
URL:https://sub5.com/event/st-josephs-hospital-commit-to-community-5k-10k-kids-obstacle-course/
LOCATION:Broadway Park\, Broadway\, Bangor\, ME\, United States
CATEGORIES:Road Race
END:VEVENT
END:VCALENDAR