BEGIN:VCALENDAR
VERSION:2.0
PRODID:-//Sub 5 Track Club - ECPv6.15.15//NONSGML v1.0//EN
CALSCALE:GREGORIAN
METHOD:PUBLISH
X-ORIGINAL-URL:https://sub5.com
X-WR-CALDESC:Events for Sub 5 Track Club
REFRESH-INTERVAL;VALUE=DURATION:PT1H
X-Robots-Tag:noindex
X-PUBLISHED-TTL:PT1H
BEGIN:VTIMEZONE
TZID:UTC
BEGIN:STANDARD
TZOFFSETFROM:+0000
TZOFFSETTO:+0000
TZNAME:UTC
DTSTART:20240101T000000
END:STANDARD
END:VTIMEZONE
BEGIN:VEVENT
DTSTART;TZID=UTC:20251115T090000
DTEND;TZID=UTC:20251115T090000
DTSTAMP:20260421T141656
CREATED:20251013T170030Z
LAST-MODIFIED:20251013T170030Z
UID:27957-1763197200-1763197200@sub5.com
SUMMARY:Veteran's Remembrance 4 Miler
DESCRIPTION:Link to race Facebook page… \nLink to online registration…
URL:https://sub5.com/event/veterans-remembrance-4-miler-2/
LOCATION:Ellsworth YMCA\, Ellsworth\, ME\, United States
CATEGORIES:Road Race
END:VEVENT
BEGIN:VEVENT
DTSTART;TZID=UTC:20251123T130000
DTEND;TZID=UTC:20251123T130000
DTSTAMP:20260421T141656
CREATED:20250918T135840Z
LAST-MODIFIED:20250918T135840Z
UID:27653-1763902800-1763902800@sub5.com
SUMMARY:44th Brewer High Turkey Trot
DESCRIPTION:Link to race entry website… \nFinal race in the 2025 Maine Savings/Sub 5 Road Race Series
URL:https://sub5.com/event/44th-brewer-high-turkey-trot/
LOCATION:Brewer High School\, 79 Parkway South\, Brewer\, ME\, 04412\, United States
CATEGORIES:Road Race
END:VEVENT
BEGIN:VEVENT
DTSTART;TZID=UTC:20251127T083000
DTEND;TZID=UTC:20251127T083000
DTSTAMP:20260421T141656
CREATED:20251112T130023Z
LAST-MODIFIED:20251112T130023Z
UID:28115-1764232200-1764232200@sub5.com
SUMMARY:Turkey Trek
DESCRIPTION:The Turkey Trek is back y’all. \nThis event ran for 15 years straight but was shut down by COVID. 😷\nBUT this year we are back. The 4 mile east-west loop will serve as the race course and we will have pies for the top 3 male and female finishers! Please make a donation to the local food bank (link to follow) using this link or we will take non-perishables at the start. Great way to start your Thanksgiving morning before eating all the food 🦃 🦃 please reach out to myself or Ian with any questions!\n\n\nTHURSDAY\, Thanksgiving\,  8:30\nBANGOR city Forest
URL:https://sub5.com/event/turkey-trek/
LOCATION:Bangor City Forest\, Bangor\, ME\, United States
CATEGORIES:Road Race
END:VEVENT
END:VCALENDAR