BEGIN:VCALENDAR
VERSION:2.0
PRODID:-//Sub 5 Track Club - ECPv6.15.15//NONSGML v1.0//EN
CALSCALE:GREGORIAN
METHOD:PUBLISH
X-ORIGINAL-URL:https://sub5.com
X-WR-CALDESC:Events for Sub 5 Track Club
REFRESH-INTERVAL;VALUE=DURATION:PT1H
X-Robots-Tag:noindex
X-PUBLISHED-TTL:PT1H
BEGIN:VTIMEZONE
TZID:UTC
BEGIN:STANDARD
TZOFFSETFROM:+0000
TZOFFSETTO:+0000
TZNAME:UTC
DTSTART:20240101T000000
END:STANDARD
END:VTIMEZONE
BEGIN:VEVENT
DTSTART;TZID=UTC:20251228T090000
DTEND;TZID=UTC:20251228T090000
DTSTAMP:20260421T135345
CREATED:20251123T144653Z
LAST-MODIFIED:20251123T144653Z
UID:28158-1766912400-1766912400@sub5.com
SUMMARY:Finale 5K
DESCRIPTION:Download race flyer… \nLink to online registration… \n 
URL:https://sub5.com/event/finale-5k-4/
LOCATION:Downtown Bangor
CATEGORIES:Road Race,Sub 5 Event
END:VEVENT
END:VCALENDAR