BEGIN:VCALENDAR
VERSION:2.0
PRODID:-//Sub 5 Track Club - ECPv6.15.20//NONSGML v1.0//EN
CALSCALE:GREGORIAN
METHOD:PUBLISH
X-ORIGINAL-URL:https://sub5.com
X-WR-CALDESC:Events for Sub 5 Track Club
REFRESH-INTERVAL;VALUE=DURATION:PT1H
X-Robots-Tag:noindex
X-PUBLISHED-TTL:PT1H
BEGIN:VTIMEZONE
TZID:UTC
BEGIN:STANDARD
TZOFFSETFROM:+0000
TZOFFSETTO:+0000
TZNAME:UTC
DTSTART:20210101T000000
END:STANDARD
END:VTIMEZONE
BEGIN:VEVENT
DTSTART;TZID=UTC:20221008T100000
DTEND;TZID=UTC:20221008T100000
DTSTAMP:20260423T193226
CREATED:20220920T134352Z
LAST-MODIFIED:20220920T134352Z
UID:20945-1665223200-1665223200@sub5.com
SUMMARY:Fall Foliage 5K Trail Run
DESCRIPTION:Link to event flyer… \nLink to course map…
URL:https://sub5.com/event/fall-foliage-5k-trail-run/
LOCATION:Fields Pond Nature Center\, 216 Fields Pond Road\, Orrington\, ME\, United States
CATEGORIES:Trail Run
END:VEVENT
END:VCALENDAR