BEGIN:VCALENDAR
VERSION:2.0
PRODID:-//Sub 5 Track Club - ECPv6.15.20//NONSGML v1.0//EN
CALSCALE:GREGORIAN
METHOD:PUBLISH
X-WR-CALNAME:Sub 5 Track Club
X-ORIGINAL-URL:https://sub5.com
X-WR-CALDESC:Events for Sub 5 Track Club
REFRESH-INTERVAL;VALUE=DURATION:PT1H
X-Robots-Tag:noindex
X-PUBLISHED-TTL:PT1H
BEGIN:VTIMEZONE
TZID:UTC
BEGIN:STANDARD
TZOFFSETFROM:+0000
TZOFFSETTO:+0000
TZNAME:UTC
DTSTART:20220101T000000
END:STANDARD
END:VTIMEZONE
BEGIN:VEVENT
DTSTART;TZID=UTC:20230728T180000
DTEND;TZID=UTC:20230728T180000
DTSTAMP:20260423T054237
CREATED:20230624T225105Z
LAST-MODIFIED:20230624T225105Z
UID:22936-1690567200-1690567200@sub5.com
SUMMARY:Spandits 5K Trail Race and and Kid's 1 Miler
DESCRIPTION:Spandits 5K Trail race and Kid’s 1-miler and will be held on the Mt. Blue High School XC course. All proceeds go towards the MBXC teams. The race will be on Friday\, July 28th.\n\nHere is the link to the document/hardcopy of the application.\n\nhttps://docs.google.com/document/d/1XR9dxI4_n5H880EsNlUL2xHil-coSVvLzm9d1Wyyu7w/edit\n\nHere is the link to the online registration form.\nhttps://form.jotform.com/51745412000137
URL:https://sub5.com/event/spandits-5k-trail-race-and-and-kids-1-miler/
LOCATION:Mt. Blue High School\, 129 Seamon Rd\, Farmington\, ME\, United States
CATEGORIES:Road Race,Trail Run
END:VEVENT
END:VCALENDAR