BEGIN:VCALENDAR
VERSION:2.0
PRODID:-//Sub 5 Track Club - ECPv6.15.20//NONSGML v1.0//EN
CALSCALE:GREGORIAN
METHOD:PUBLISH
X-ORIGINAL-URL:https://sub5.com
X-WR-CALDESC:Events for Sub 5 Track Club
REFRESH-INTERVAL;VALUE=DURATION:PT1H
X-Robots-Tag:noindex
X-PUBLISHED-TTL:PT1H
BEGIN:VTIMEZONE
TZID:UTC
BEGIN:STANDARD
TZOFFSETFROM:+0000
TZOFFSETTO:+0000
TZNAME:UTC
DTSTART:20220101T000000
END:STANDARD
END:VTIMEZONE
BEGIN:VEVENT
DTSTART;VALUE=DATE:20230805
DTEND;VALUE=DATE:20230806
DTSTAMP:20260423T041908
CREATED:20230422T140448Z
LAST-MODIFIED:20230422T140448Z
UID:22094-1691193600-1691279999@sub5.com
SUMMARY:Blue Hill Mountain Trail Fest 5K/10K/50K
DESCRIPTION:Link to register… \nLink to event Facebook page…
URL:https://sub5.com/event/blue-hill-mountain-trail-fest-5k-10k-50k/
LOCATION:Mountain Road Field\, Blue Hill\, Maine
CATEGORIES:Trail Run
END:VEVENT
END:VCALENDAR