BEGIN:VCALENDAR
VERSION:2.0
PRODID:-//Sub 5 Track Club - ECPv6.15.20//NONSGML v1.0//EN
CALSCALE:GREGORIAN
METHOD:PUBLISH
X-ORIGINAL-URL:https://sub5.com
X-WR-CALDESC:Events for Sub 5 Track Club
REFRESH-INTERVAL;VALUE=DURATION:PT1H
X-Robots-Tag:noindex
X-PUBLISHED-TTL:PT1H
BEGIN:VTIMEZONE
TZID:UTC
BEGIN:STANDARD
TZOFFSETFROM:+0000
TZOFFSETTO:+0000
TZNAME:UTC
DTSTART:20220101T000000
END:STANDARD
END:VTIMEZONE
BEGIN:VEVENT
DTSTART;TZID=UTC:20231007T090000
DTEND;TZID=UTC:20231007T090000
DTSTAMP:20260423T005622
CREATED:20230821T191936Z
LAST-MODIFIED:20230821T191936Z
UID:23078-1696669200-1696669200@sub5.com
SUMMARY:Maine Audubon Fall Foliage 5K Trail Run
DESCRIPTION:Link to race website…
URL:https://sub5.com/event/maine-audubon-fall-foliage-5k-trail-run/
LOCATION:Fields Pond Nature Center\, 216 Fields Pond Road\, Orrington\, ME\, United States
CATEGORIES:Trail Run
END:VEVENT
BEGIN:VEVENT
DTSTART;TZID=UTC:20231022T110000
DTEND;TZID=UTC:20231022T110000
DTSTAMP:20260423T005622
CREATED:20230911T141930Z
LAST-MODIFIED:20230911T150506Z
UID:23286-1697972400-1697972400@sub5.com
SUMMARY:Wildlands Trail Run
DESCRIPTION:Sunday October 22\nWildlands Trail Run –\nOrland\, ME\nhttps://www.runreg.com/wildlands-race
URL:https://sub5.com/event/wildlands-trail-run/
LOCATION:Great Pond Mountain\, Orland
CATEGORIES:Trail Run
END:VEVENT
END:VCALENDAR