BEGIN:VCALENDAR
VERSION:2.0
PRODID:-//Sub 5 Track Club - ECPv6.15.15//NONSGML v1.0//EN
CALSCALE:GREGORIAN
METHOD:PUBLISH
X-WR-CALNAME:Sub 5 Track Club
X-ORIGINAL-URL:https://sub5.com
X-WR-CALDESC:Events for Sub 5 Track Club
REFRESH-INTERVAL;VALUE=DURATION:PT1H
X-Robots-Tag:noindex
X-PUBLISHED-TTL:PT1H
BEGIN:VTIMEZONE
TZID:UTC
BEGIN:STANDARD
TZOFFSETFROM:+0000
TZOFFSETTO:+0000
TZNAME:UTC
DTSTART:20230101T000000
END:STANDARD
END:VTIMEZONE
BEGIN:VEVENT
DTSTART;TZID=UTC:20241103T100000
DTEND;TZID=UTC:20241103T100000
DTSTAMP:20260422T050632
CREATED:20240918T170525Z
LAST-MODIFIED:20240918T170525Z
UID:25582-1730628000-1730628000@sub5.com
SUMMARY:Wildlands Summit Run
DESCRIPTION:Wildlands Summit Run\nNovember 3rd\nRegistration: https://www.runreg.com/wildlands-race\nInformation: The GPMCT Trail Run is a fundraiser for the Great Pond Mountain Conservation Trust. GPMCT is a non-profit land trust that connects people by conserving open spaces and creating trail systems\, providing opportunities for outdoor recreation and protecting wildlife habitat in Hancock County\, Maine.
URL:https://sub5.com/event/wildlands-summit-run/
LOCATION:Great Pond Mountain\, Orland
CATEGORIES:Trail Run
END:VEVENT
END:VCALENDAR