BEGIN:VCALENDAR
VERSION:2.0
PRODID:-//Sub 5 Track Club - ECPv6.15.20//NONSGML v1.0//EN
CALSCALE:GREGORIAN
METHOD:PUBLISH
X-ORIGINAL-URL:https://sub5.com
X-WR-CALDESC:Events for Sub 5 Track Club
REFRESH-INTERVAL;VALUE=DURATION:PT1H
X-Robots-Tag:noindex
X-PUBLISHED-TTL:PT1H
BEGIN:VTIMEZONE
TZID:UTC
BEGIN:STANDARD
TZOFFSETFROM:+0000
TZOFFSETTO:+0000
TZNAME:UTC
DTSTART:20190101T000000
END:STANDARD
END:VTIMEZONE
BEGIN:VEVENT
DTSTART;TZID=UTC:20200502T093000
DTEND;TZID=UTC:20200502T093000
DTSTAMP:20260425T005712
CREATED:20191213T181135Z
LAST-MODIFIED:20200402T180330Z
UID:15109-1588411800-1588411800@sub5.com
SUMMARY:Courage to Run 5K (postponed TBA)
DESCRIPTION:Link to event info…
URL:https://sub5.com/event/courage-to-run-5k/
LOCATION:University of Maine\, Orono\, ME\, United States
CATEGORIES:Road Race
END:VEVENT
BEGIN:VEVENT
DTSTART;TZID=UTC:20200502T100000
DTEND;TZID=UTC:20200502T100000
DTSTAMP:20260425T005712
CREATED:20200302T022527Z
LAST-MODIFIED:20200402T122202Z
UID:15627-1588413600-1588413600@sub5.com
SUMMARY:Bridge the Gap 10M and 3M (Postponed TBA)
DESCRIPTION:Link to event website…
URL:https://sub5.com/event/bridge-the-gap-10m-and-3m/
LOCATION:Prospect to Bucksport\, Prospect\, ME\, United States
CATEGORIES:Road Race
END:VEVENT
BEGIN:VEVENT
DTSTART;TZID=UTC:20200516T090000
DTEND;TZID=UTC:20200516T090000
DTSTAMP:20260425T005712
CREATED:20200322T130040Z
LAST-MODIFIED:20200421T123332Z
UID:15643-1589619600-1589619600@sub5.com
SUMMARY:Caravel 5 Miler - CANCELED
DESCRIPTION:Download race application… \nRace Facebook page…
URL:https://sub5.com/event/caravel-5-miler-5/
LOCATION:Caravel Middle School\, Carmel\, ME\, United States
CATEGORIES:Road Race
END:VEVENT
BEGIN:VEVENT
DTSTART;TZID=UTC:20200518T080000
DTEND;TZID=UTC:20200601T170000
DTSTAMP:20260425T005712
CREATED:20200514T132545Z
LAST-MODIFIED:20200514T132545Z
UID:15714-1589788800-1591030800@sub5.com
SUMMARY:13th Snowy Egret 5K (Virtual Race)
DESCRIPTION:The 13th Annual Snowy Egret 5K\, to benefit the Scarborough Marsh Audubon Center\, is now virtual.\n5K Run/Walk is $20; Kids 1K Fun Run is free\nThe 5K course is wherever you want it and you can do the race from May 18 – June 1 \nT-shirts: The first 100 adult registrants will receive a special commemorative t-shirt.  To keep the cost down we will have pickup days for you at Scarborough Marsh and Falmouth before the race.  If you live out of the area\, we will ship it to you.  \n\n\nPrizes will be given for photos of most creative course\, best costume themed around a marsh animal\, and more. The photo contest will be here:\nhttps://www.facebook.com/events/576270372971527/
URL:https://sub5.com/event/13th-snowy-egret-5k-virtual-race/
LOCATION:ME
CATEGORIES:Road Race
END:VEVENT
BEGIN:VEVENT
DTSTART;TZID=UTC:20200525T090000
DTEND;TZID=UTC:20200525T090000
DTSTAMP:20260425T005712
CREATED:20200322T132511Z
LAST-MODIFIED:20200514T132811Z
UID:15660-1590397200-1590397200@sub5.com
SUMMARY:Main Street Memorial Mile - CANCELED
DESCRIPTION:4th Race in Tradewinds/Sub 5 Race Series
URL:https://sub5.com/event/main-street-memorial-mile-4/
LOCATION:Ellsworth Chamber of Commerce\, Ellsworth\, ME\, United States
CATEGORIES:Road Race
END:VEVENT
END:VCALENDAR