BEGIN:VCALENDAR
VERSION:2.0
PRODID:-//Sub 5 Track Club - ECPv6.15.20//NONSGML v1.0//EN
CALSCALE:GREGORIAN
METHOD:PUBLISH
X-ORIGINAL-URL:https://sub5.com
X-WR-CALDESC:Events for Sub 5 Track Club
REFRESH-INTERVAL;VALUE=DURATION:PT1H
X-Robots-Tag:noindex
X-PUBLISHED-TTL:PT1H
BEGIN:VTIMEZONE
TZID:UTC
BEGIN:STANDARD
TZOFFSETFROM:+0000
TZOFFSETTO:+0000
TZNAME:UTC
DTSTART:20190101T000000
END:STANDARD
END:VTIMEZONE
BEGIN:VEVENT
DTSTART;TZID=UTC:20200704T093000
DTEND;TZID=UTC:20200704T093000
DTSTAMP:20260424T210741
CREATED:20200322T132936Z
LAST-MODIFIED:20200514T132849Z
UID:15668-1593855000-1593855000@sub5.com
SUMMARY:Walter Hunt Memorial 3K - CANCELED
DESCRIPTION:7th Race in Tradewinds/Sub 5 Race Series
URL:https://sub5.com/event/walter-hunt-memorial-3k/
LOCATION:Brewer Auditorium\, Wilson Street\, Brewer
CATEGORIES:Road Race
END:VEVENT
BEGIN:VEVENT
DTSTART;TZID=UTC:20200711T100000
DTEND;TZID=UTC:20200711T100000
DTSTAMP:20260424T210741
CREATED:20200302T021932Z
LAST-MODIFIED:20200402T121447Z
UID:15621-1594461600-1594461600@sub5.com
SUMMARY:Flattop 5K
DESCRIPTION:Link to online registration…
URL:https://sub5.com/event/flattop-5k-3/
LOCATION:Lamoine School\, Lamoine\, ME\, United States
CATEGORIES:Road Race
END:VEVENT
END:VCALENDAR