BEGIN:VCALENDAR
VERSION:2.0
PRODID:-//Sub 5 Track Club - ECPv6.15.20//NONSGML v1.0//EN
CALSCALE:GREGORIAN
METHOD:PUBLISH
X-WR-CALNAME:Sub 5 Track Club
X-ORIGINAL-URL:https://sub5.com
X-WR-CALDESC:Events for Sub 5 Track Club
REFRESH-INTERVAL;VALUE=DURATION:PT1H
X-Robots-Tag:noindex
X-PUBLISHED-TTL:PT1H
BEGIN:VTIMEZONE
TZID:UTC
BEGIN:STANDARD
TZOFFSETFROM:+0000
TZOFFSETTO:+0000
TZNAME:UTC
DTSTART:20190101T000000
END:STANDARD
END:VTIMEZONE
BEGIN:VEVENT
DTSTART;TZID=UTC:20200907T090000
DTEND;TZID=UTC:20200907T090000
DTSTAMP:20260424T175530
CREATED:20200322T133106Z
LAST-MODIFIED:20200806T121615Z
UID:15671-1599469200-1599469200@sub5.com
SUMMARY:Labor Day 5 Miler - Canceled
DESCRIPTION:8th Race in Tradewinds/Sub 5 Race Series
URL:https://sub5.com/event/labor-day-5-miler/
LOCATION:Bangor Parks and Recreation Building\, 647 Main St.\, Bangor
CATEGORIES:Road Race
END:VEVENT
BEGIN:VEVENT
DTSTART;VALUE=DATE:20200919
DTEND;VALUE=DATE:20200920
DTSTAMP:20260424T175530
CREATED:20200820T135216Z
LAST-MODIFIED:20200820T135216Z
UID:15825-1600473600-1600559999@sub5.com
SUMMARY:TUCARD 2020 Trail Race
DESCRIPTION:Link to race website… \nLink to online registration…
URL:https://sub5.com/event/tucard-2020-trail-race/
LOCATION:Marsh Island\, Orono\, ME\, United States
CATEGORIES:Road Race
END:VEVENT
BEGIN:VEVENT
DTSTART;TZID=UTC:20200920T093000
DTEND;TZID=UTC:20200920T093000
DTSTAMP:20260424T175530
CREATED:20200322T133227Z
LAST-MODIFIED:20200820T135252Z
UID:15674-1600594200-1600594200@sub5.com
SUMMARY:Tradewinds Great Pumpkinfest 4K - Canceled
DESCRIPTION:9th Race in Tradewinds/Sub 5 Race Series
URL:https://sub5.com/event/tradewinds-great-pumpkinfest-4k/
LOCATION:Tradewinds Marketplace\, Blue Hill\, ME\, United States
CATEGORIES:Road Race
END:VEVENT
BEGIN:VEVENT
DTSTART;TZID=UTC:20200927T090000
DTEND;TZID=UTC:20200927T090000
DTSTAMP:20260424T175530
CREATED:20200619T151911Z
LAST-MODIFIED:20200806T121649Z
UID:15785-1601197200-1601197200@sub5.com
SUMMARY:St. Joe's Commit to Get Fit 5K/10K - Virtual Event
DESCRIPTION:Link to event on RunSignup…
URL:https://sub5.com/event/st-joes-commit-to-get-fit-5k-10k/
LOCATION:Broadway Park\, Broadway\, Bangor\, ME\, United States
CATEGORIES:Road Race
END:VEVENT
END:VCALENDAR