BEGIN:VCALENDAR
VERSION:2.0
PRODID:-//Sub 5 Track Club - ECPv6.15.20//NONSGML v1.0//EN
CALSCALE:GREGORIAN
METHOD:PUBLISH
X-WR-CALNAME:Sub 5 Track Club
X-ORIGINAL-URL:https://sub5.com
X-WR-CALDESC:Events for Sub 5 Track Club
REFRESH-INTERVAL;VALUE=DURATION:PT1H
X-Robots-Tag:noindex
X-PUBLISHED-TTL:PT1H
BEGIN:VTIMEZONE
TZID:UTC
BEGIN:STANDARD
TZOFFSETFROM:+0000
TZOFFSETTO:+0000
TZNAME:UTC
DTSTART:20190101T000000
END:STANDARD
END:VTIMEZONE
BEGIN:VEVENT
DTSTART;TZID=UTC:20201025T090000
DTEND;TZID=UTC:20201025T090000
DTSTAMP:20260424T155127
CREATED:20200302T022215Z
LAST-MODIFIED:20200322T131515Z
UID:15624-1603616400-1603616400@sub5.com
SUMMARY:Erin's Run
DESCRIPTION:Link to online registration…
URL:https://sub5.com/event/erins-run-2/
LOCATION:Bangor Waterfront\, Bamgor\, ME\, United States
CATEGORIES:Road Race
END:VEVENT
BEGIN:VEVENT
DTSTART;TZID=UTC:20201025T110000
DTEND;TZID=UTC:20201025T110000
DTSTAMP:20260424T155127
CREATED:20200322T133350Z
LAST-MODIFIED:20200322T133350Z
UID:15677-1603623600-1603623600@sub5.com
SUMMARY:Black Bear 5K
DESCRIPTION:10th Race in Tradewinds/Sub 5 Race Series
URL:https://sub5.com/event/black-bear-5k-6/
LOCATION:University of Maine\, Orono\, ME\, United States
CATEGORIES:Road Race
END:VEVENT
END:VCALENDAR