BEGIN:VCALENDAR
VERSION:2.0
PRODID:-//Sub 5 Track Club - ECPv6.15.20//NONSGML v1.0//EN
CALSCALE:GREGORIAN
METHOD:PUBLISH
X-ORIGINAL-URL:https://sub5.com
X-WR-CALDESC:Events for Sub 5 Track Club
REFRESH-INTERVAL;VALUE=DURATION:PT1H
X-Robots-Tag:noindex
X-PUBLISHED-TTL:PT1H
BEGIN:VTIMEZONE
TZID:UTC
BEGIN:STANDARD
TZOFFSETFROM:+0000
TZOFFSETTO:+0000
TZNAME:UTC
DTSTART:20190101T000000
END:STANDARD
END:VTIMEZONE
BEGIN:VEVENT
DTSTART;TZID=UTC:20201101T080000
DTEND;TZID=UTC:20201108T170000
DTSTAMP:20260424T141050
CREATED:20201001T000248Z
LAST-MODIFIED:20201001T000248Z
UID:15994-1604217600-1604854800@sub5.com
SUMMARY:NERS 5K (virtual event)
DESCRIPTION:Link to event website…
URL:https://sub5.com/event/ners-5k-virtual-event/
LOCATION:ME
CATEGORIES:Road Race
END:VEVENT
BEGIN:VEVENT
DTSTART;TZID=UTC:20201104T000000
DTEND;TZID=UTC:20201118T000000
DTSTAMP:20260424T141050
CREATED:20201014T123904Z
LAST-MODIFIED:20201014T123904Z
UID:16203-1604448000-1605657600@sub5.com
SUMMARY:Veterans Benefit Virtual 5K
DESCRIPTION:The Sub 5 Track Club would like to announce the Veterans Benefit Virtual 5k Nov. 4-18. Proceeds from the race benefit the Bangor Veterans’ Home. We’ve created a basic event for our first virtual race and kept it inexpensive (under $15) in hopes of lots of participation to support a good cause. \nhttps://runsignup.com/Race/ME/Brewer/SUB5VeteransVirtual5K
URL:https://sub5.com/event/veterans-benefit-virtual-5k/
LOCATION:ME
CATEGORIES:Road Race,Sub 5 Event
END:VEVENT
BEGIN:VEVENT
DTSTART;TZID=UTC:20201122T130000
DTEND;TZID=UTC:20201122T130000
DTSTAMP:20260424T141050
CREATED:20200322T133504Z
LAST-MODIFIED:20200322T133504Z
UID:15680-1606050000-1606050000@sub5.com
SUMMARY:Brewer High School Turkey Trot 3 Miler
DESCRIPTION:11th (Last) Race in Tradewinds/Sub 5 Race Series
URL:https://sub5.com/event/brewer-high-school-turkey-trot-3-miler/
LOCATION:Brewer High School\, 79 Parkway South\, Brewer\, ME\, 04412\, United States
CATEGORIES:Road Race
END:VEVENT
END:VCALENDAR