BEGIN:VCALENDAR
VERSION:2.0
PRODID:-//Sub 5 Track Club - ECPv6.15.20//NONSGML v1.0//EN
CALSCALE:GREGORIAN
METHOD:PUBLISH
X-WR-CALNAME:Sub 5 Track Club
X-ORIGINAL-URL:https://sub5.com
X-WR-CALDESC:Events for Sub 5 Track Club
REFRESH-INTERVAL;VALUE=DURATION:PT1H
X-Robots-Tag:noindex
X-PUBLISHED-TTL:PT1H
BEGIN:VTIMEZONE
TZID:UTC
BEGIN:STANDARD
TZOFFSETFROM:+0000
TZOFFSETTO:+0000
TZNAME:UTC
DTSTART:20200101T000000
END:STANDARD
END:VTIMEZONE
BEGIN:VEVENT
DTSTART;TZID=UTC:20210627T130000
DTEND;TZID=UTC:20210627T130000
DTSTAMP:20260424T013455
CREATED:20210601T130031Z
LAST-MODIFIED:20210601T130031Z
UID:17602-1624798800-1624798800@sub5.com
SUMMARY:Crush Cancer 5K Walk/Run
DESCRIPTION:This is a charity race and after race expenses\, all proceeds will be donated to the Beth C. Wright Cancer Resource Center and Sarah’s House of Maine.
URL:https://sub5.com/event/crush-cancer-5k-walk-run/
LOCATION:Municipal Landing\, Jonesboro
CATEGORIES:Road Race
END:VEVENT
END:VCALENDAR