BEGIN:VCALENDAR
VERSION:2.0
PRODID:-//Sub 5 Track Club - ECPv6.15.20//NONSGML v1.0//EN
CALSCALE:GREGORIAN
METHOD:PUBLISH
X-ORIGINAL-URL:https://sub5.com
X-WR-CALDESC:Events for Sub 5 Track Club
REFRESH-INTERVAL;VALUE=DURATION:PT1H
X-Robots-Tag:noindex
X-PUBLISHED-TTL:PT1H
BEGIN:VTIMEZONE
TZID:UTC
BEGIN:STANDARD
TZOFFSETFROM:+0000
TZOFFSETTO:+0000
TZNAME:UTC
DTSTART:20210101T000000
END:STANDARD
END:VTIMEZONE
BEGIN:VEVENT
DTSTART;TZID=UTC:20220605T100000
DTEND;TZID=UTC:20220605T100000
DTSTAMP:20260423T065810
CREATED:20220508T172619Z
LAST-MODIFIED:20220508T172619Z
UID:19824-1654423200-1654423200@sub5.com
SUMMARY:Down East AIDS Walk 5K
DESCRIPTION:Download race flyer…
URL:https://sub5.com/event/down-east-aids-walk-5k/
LOCATION:Ellsworth High School
CATEGORIES:Road Race
END:VEVENT
BEGIN:VEVENT
DTSTART;TZID=UTC:20220618T080000
DTEND;TZID=UTC:20220618T080000
DTSTAMP:20260423T065810
CREATED:20220323T000215Z
LAST-MODIFIED:20220323T000215Z
UID:19468-1655539200-1655539200@sub5.com
SUMMARY:Monmouth Fair 5K
DESCRIPTION:Link to event website…
URL:https://sub5.com/event/monmouth-fair-5k-3/
LOCATION:Monmouth Academy\, 79 Academy Road\, Monmouth\, ME\, United States
CATEGORIES:Road Race
END:VEVENT
BEGIN:VEVENT
DTSTART;TZID=UTC:20220625T073000
DTEND;TZID=UTC:20220625T073000
DTSTAMP:20260423T065810
CREATED:20220601T144115Z
LAST-MODIFIED:20220601T144213Z
UID:20165-1656142200-1656142200@sub5.com
SUMMARY:Tour du Lac 10 Miler
DESCRIPTION:Link to online registration… \nLink to race Facebook page…
URL:https://sub5.com/event/tour-du-lac-10-miler-2/
LOCATION:Bucksport Community Swimming Pool
CATEGORIES:Road Race
END:VEVENT
END:VCALENDAR