BEGIN:VCALENDAR
VERSION:2.0
PRODID:-//Sub 5 Track Club - ECPv6.15.15//NONSGML v1.0//EN
CALSCALE:GREGORIAN
METHOD:PUBLISH
X-ORIGINAL-URL:https://sub5.com
X-WR-CALDESC:Events for Sub 5 Track Club
REFRESH-INTERVAL;VALUE=DURATION:PT1H
X-Robots-Tag:noindex
X-PUBLISHED-TTL:PT1H
BEGIN:VTIMEZONE
TZID:UTC
BEGIN:STANDARD
TZOFFSETFROM:+0000
TZOFFSETTO:+0000
TZNAME:UTC
DTSTART:20240101T000000
END:STANDARD
END:VTIMEZONE
BEGIN:VEVENT
DTSTART;TZID=UTC:20250406T090000
DTEND;TZID=UTC:20250406T090000
DTSTAMP:20260421T044035
CREATED:20250403T115620Z
LAST-MODIFIED:20250403T115620Z
UID:26545-1743930000-1743930000@sub5.com
SUMMARY:Boyden Lake Half Marathon
DESCRIPTION:Link to online registration… \nJoin the Bold Coast Runners and Pottle Tree Farm for the inaugural Boyden Lake Half-Marathon! Whether you run\, walk\, ruck\, or team up for the relay\, this event promises a memorable experience for a meaningful cause. Proceeds and fundraising will benefit three incredible organizations: Achilles Freedom Team\, supporting disabled veterans in achieving their athletic goals\,  House in the Woods of Lee\, Maine\, a retreat dedicated to honoring and helping veterans and their families and The Travis Mills Foundation  – supporting post-9/11 recalibrated veterans and their families through various programs that help these heroic men and women overcome physical and emotional obstacles\, strengthen their families\, and provide well-deserved rest and relaxation. Don’t miss this opportunity to challenge yourself while making a difference for those who have served. \nThe Boyden Lake Half-Marathon in Perry\, Maine\, is a scenic and serene route that encircles Boyden Lake\, a beautiful freshwater body in the Downeast region. This loop is a favorite among outdoor enthusiasts\, especially runners\, walkers\, and cyclists\, for its combination of quiet roads\, natural beauty\, and tranquil surroundings. Along the route\, you’ll enjoy picturesque views of Boyden Lake\, peaceful forests\, and the occasional glimpse of local wildlife\, such as eagles\, herons\, and loons. Starting and Finishing at the Pottle Tree Farm surrounded by rolling hills\, forested areas\, and open fields\, the farm offers stunning views that capture the essence of Maine’s natural beauty. \nEach year the race committee will select a local veteran to honor.  2025 race dedication goes to: Brian Manza – a Vietnam veteran who passed away in 2008 from complications of Agent Orange. Brian was also a valued member of the Washington County running community and his accomplishments are many. He was the 1967 Maine state high school cross country champion from Woodland High School (Baileyville)\, ran both the Boston and Pikes Peak Marathons\, and was a founding member and president of the Sunrise County Roadrunners. Other than his decorated US Army service\, while stationed at Fort Carson he was a member of both the boxing and running teams. Learn more about Brian from this Quoddy Tides article published in 2020. \nComplete Race Day information will be emailed about 1 week before the event. Carpooling to the event is highly encouraged.  \nAid Stations will have water and gatorade. There are 4 aid stations on the course.
URL:https://sub5.com/event/boyden-lake-half-marathon/
LOCATION:ME
CATEGORIES:Road Race
END:VEVENT
BEGIN:VEVENT
DTSTART;TZID=UTC:20250412T100000
DTEND;TZID=UTC:20250412T100000
DTSTAMP:20260421T044035
CREATED:20250405T212326Z
LAST-MODIFIED:20250405T212326Z
UID:26561-1744452000-1744452000@sub5.com
SUMMARY:Sprint Into Spring 5K
DESCRIPTION:Link to online registration… \n\n\nPlace\n307 Military Street\nHoulton\, ME US 04730\n\n\n\n\nDescription\n\n\nJoin us as we kick off the 2025 Crown of Maine Race Series with Race #1 in downtown Houlton\, ME! \nThis year’s race is especially meaningful as we rally around the Ewings Family\, our 2025 race benefactor.  We invite the entire community to come together in support\, whether you’re a seasoned runner\, a casual walker\, or simply want to donate or volunteer\, there’s a place for everyone. \nWe’re excited to bring back the popular 3K Sprint\, formerly known as the “Solar Sprint\,” paying homage to Houlton’s classic “Snow Run.”  The race will follow the same scenic course as last year’s Solar Sprint\, offering a fun and fast route through the heart of Houlton. \nSign up today and be part of something bigger\, help us make a difference while kicking off the race season in style!  More details to come\, so check back often. We can’t wait to see you at the starting line!
URL:https://sub5.com/event/sprint-into-spring-5k/
LOCATION:Military Street Baptist Church\, 307 Military Street\, Houlton\, Maine
CATEGORIES:Road Race
END:VEVENT
END:VCALENDAR