BEGIN:VCALENDAR
VERSION:2.0
PRODID:-//Sub 5 Track Club - ECPv6.15.15//NONSGML v1.0//EN
CALSCALE:GREGORIAN
METHOD:PUBLISH
X-ORIGINAL-URL:https://sub5.com
X-WR-CALDESC:Events for Sub 5 Track Club
REFRESH-INTERVAL;VALUE=DURATION:PT1H
X-Robots-Tag:noindex
X-PUBLISHED-TTL:PT1H
BEGIN:VTIMEZONE
TZID:UTC
BEGIN:STANDARD
TZOFFSETFROM:+0000
TZOFFSETTO:+0000
TZNAME:UTC
DTSTART:20250101T000000
END:STANDARD
END:VTIMEZONE
BEGIN:VEVENT
DTSTART;TZID=UTC:20260307T090000
DTEND;TZID=UTC:20260307T090000
DTSTAMP:20260420T110949
CREATED:20260115T001837Z
LAST-MODIFIED:20260115T001837Z
UID:28344-1772874000-1772874000@sub5.com
SUMMARY:Lamoine Half-Marathon
DESCRIPTION:Link to race Facebook page… \nLink to online registration…
URL:https://sub5.com/event/lamoine-half-marathon-2/
LOCATION:Lamoine Beach\, Lamoine\, ME\, United States
CATEGORIES:Road Race
END:VEVENT
BEGIN:VEVENT
DTSTART;TZID=UTC:20260328T093000
DTEND;TZID=UTC:20260328T093000
DTSTAMP:20260420T110949
CREATED:20260324T123553Z
LAST-MODIFIED:20260324T123553Z
UID:28542-1774690200-1774690200@sub5.com
SUMMARY:Flat Top 5K
DESCRIPTION:Link to online registration…
URL:https://sub5.com/event/flat-top-5k-3/
LOCATION:Lamoine School\, Lamoine\, ME\, United States
CATEGORIES:Road Race
END:VEVENT
END:VCALENDAR